BEGIN:VCALENDAR
VERSION:2.0
METHOD:PUBLISH
PRODID:-//Agenda.ad//NONSGML v1.0//EN
BEGIN:VEVENT
CLASS:PUBLIC
UID:317038179193e4f845da2c23c9a2e8a8@agenda.ad
DTSTAMP:20260419T202344Z
DTSTART:20260306T230000Z
DTEND:20260306T230000Z
SUMMARY:<p><strong>Taller de&nbsp;<em>sketching</em>,&nbsp;<em>lettering</em>&nbsp;i t&egrave;cniques del&nbsp;<em>graffiti</em></strong></p>
DESCRIPTION:\n\nMÃ©s informaciÃ³\nhttps://www.agenda.ad/activitat/escald
 es-engordany/cursos-i-tallers/taller-infantil-deÂ sketchingÂ
  letteringÂ i-tecniques-delÂ graffiti-23279\n\n\nOrganitza\n
 ComÃº d'Escaldes-Engordany
LOCATION:Espai Caldes
SEQUENCE:0
TRANSP:OPAQUE
X-ALT-DESC;FMTTYPE=text/html:<!DOCTYPE HTML PUBLIC "-//W3C//DTD HTML 3.2//EN"><HTML><HEAD
 ><TITLE></TITLE></HEAD><BODY><FONT FACE="Arial" SIZE=2><br/>
 <br/><b>MÃ©s informaciÃ³</b><br/><a href="https://www.agenda
 .ad/activitat/escaldes-engordany/cursos-i-tallers/taller-inf
 antil-deÂ sketchingÂ letteringÂ i-tecniques-delÂ graffiti-23
 279">https://www.agenda.ad/activitat/escaldes-engordany/curs
 os-i-tallers/taller-infantil-deÂ sketchingÂ letteringÂ i-tec
 niques-delÂ graffiti-23279</a><br/><br/><br/><b>Organitza</b
 ><br/>ComÃº d'Escaldes-Engordany</FONT></BODY></HTML>
END:VEVENT
END:VCALENDAR